BEGIN:VCALENDAR
VERSION:2.0
PRODID:-//hacksw/handcal//NONSGML v1.0//EN
BEGIN:VEVENT
UID:11936
DTSTART;VALUE=DATE:20190119
URL;VALUE=URI:ohschonhell.at/?page_id=26299
SUMMARY:Lauter TNI Lärm #6
LOCATION:VENSTER 99
END:VEVENT
END:VCALENDAR


