BEGIN:VCALENDAR
VERSION:2.0
PRODID:-//hacksw/handcal//NONSGML v1.0//EN
BEGIN:VEVENT
UID:11944
DTSTART;VALUE=DATE:20190130
URL;VALUE=URI:ohschonhell.at/?page_id=26317
SUMMARY:Oh it&#039\;s a Free Party - 30. Jänner 2019 - PRIVATE_EINLADUNGEN
LOCATION:FLEX
END:VEVENT
END:VCALENDAR


