BEGIN:VCALENDAR
VERSION:2.0
PRODID:-//hacksw/handcal//NONSGML v1.0//EN
BEGIN:VEVENT
UID:11952
DTSTART;VALUE=DATE:20190313
URL;VALUE=URI:ohschonhell.at/?page_id=26335
SUMMARY:Oh it&#039\;s a Free Party - 13. März / FREiER EiNTRiTT - TeKno / Acid
LOCATION:Oldschool Austria
END:VEVENT
END:VCALENDAR


