BEGIN:VCALENDAR
VERSION:2.0
PRODID:-//hacksw/handcal//NONSGML v1.0//EN
BEGIN:VEVENT
UID:11964
DTSTART;VALUE=DATE:20190221
URL;VALUE=URI:ohschonhell.at/?page_id=26359
SUMMARY:OHRGANIC~ Communist era
LOCATION:ELEKTRO GÖNNER
END:VEVENT
END:VCALENDAR


