BEGIN:VCALENDAR
VERSION:2.0
PRODID:-//hacksw/handcal//NONSGML v1.0//EN
BEGIN:VEVENT
UID:11967
DTSTART;VALUE=DATE:20190216
URL;VALUE=URI:ohschonhell.at/?page_id=26365
SUMMARY:Löwenzahn meets Stephan Licha &amp\; David Mager - free party
LOCATION:Kramladen
END:VEVENT
END:VCALENDAR


