BEGIN:VCALENDAR
VERSION:2.0
PRODID:-//hacksw/handcal//NONSGML v1.0//EN
BEGIN:VEVENT
UID:11977
DTSTART;VALUE=DATE:20190208
URL;VALUE=URI:ohschonhell.at/?page_id=26385
SUMMARY:Together Trance Project Psytrance Night feat.&quot\;Aber Ja&quot\;
LOCATION:UTOPIA
END:VEVENT
END:VCALENDAR


