BEGIN:VCALENDAR
VERSION:2.0
PRODID:-//hacksw/handcal//NONSGML v1.0//EN
BEGIN:VEVENT
UID:11986
DTSTART;VALUE=DATE:20190322
URL;VALUE=URI:ohschonhell.at/?page_id=26403
SUMMARY:Stelldichein // hosted by Tongraeber
LOCATION:CAMERA CLUB
END:VEVENT
END:VCALENDAR


