BEGIN:VCALENDAR
VERSION:2.0
PRODID:-//hacksw/handcal//NONSGML v1.0//EN
BEGIN:VEVENT
UID:11991
DTSTART;VALUE=DATE:20190209
URL;VALUE=URI:ohschonhell.at/?page_id=26413
SUMMARY:Simon Plays
LOCATION:SCHIKANEDER
END:VEVENT
END:VCALENDAR


