BEGIN:VCALENDAR
VERSION:2.0
PRODID:-//hacksw/handcal//NONSGML v1.0//EN
BEGIN:VEVENT
UID:12004
DTSTART;VALUE=DATE:20190216
URL;VALUE=URI:ohschonhell.at/?page_id=26439
SUMMARY:CLUB MAJIK N°20
LOCATION:ELEKTRO GÖNNER
END:VEVENT
END:VCALENDAR


