BEGIN:VCALENDAR
VERSION:2.0
PRODID:-//hacksw/handcal//NONSGML v1.0//EN
BEGIN:VEVENT
UID:12005
DTSTART;VALUE=DATE:20190207
URL;VALUE=URI:ohschonhell.at/?page_id=26441
SUMMARY:Wiener Brød #5 with Masha Dabelka and Dj Tenor Saxophone
LOCATION:ELEKTRO GÖNNER
END:VEVENT
END:VCALENDAR


