BEGIN:VCALENDAR
VERSION:2.0
PRODID:-//hacksw/handcal//NONSGML v1.0//EN
BEGIN:VEVENT
UID:12011
DTSTART;VALUE=DATE:20190222
URL;VALUE=URI:ohschonhell.at/?page_id=26456
SUMMARY:Bass Cave #10 - Drum and Bass w/ DaKindl &amp\; Insomnist
LOCATION:EINBAUMÖBEL - 1bm
END:VEVENT
END:VCALENDAR


