BEGIN:VCALENDAR
VERSION:2.0
PRODID:-//hacksw/handcal//NONSGML v1.0//EN
BEGIN:VEVENT
UID:12020
DTSTART;VALUE=DATE:20190315
URL;VALUE=URI:ohschonhell.at/?page_id=26474
SUMMARY:Kw50Fr w/ Il Rampelotto &amp\; El Salgado
LOCATION:The Real White Rabbit
END:VEVENT
END:VCALENDAR


