BEGIN:VCALENDAR
VERSION:2.0
PRODID:-//hacksw/handcal//NONSGML v1.0//EN
BEGIN:VEVENT
UID:12027
DTSTART;VALUE=DATE:20190301
URL;VALUE=URI:ohschonhell.at/?page_id=26488
SUMMARY:Horst &amp\; Hannelore w./ Matador live
LOCATION:HORST
END:VEVENT
END:VCALENDAR


