BEGIN:VCALENDAR
VERSION:2.0
PRODID:-//hacksw/handcal//NONSGML v1.0//EN
BEGIN:VEVENT
UID:12029
DTSTART;VALUE=DATE:20190224
URL;VALUE=URI:ohschonhell.at/?page_id=26492
SUMMARY:Circa pres. 10. Wiener Technoball Afterhour
LOCATION:Heart Club
END:VEVENT
END:VCALENDAR


