BEGIN:VCALENDAR
VERSION:2.0
PRODID:-//hacksw/handcal//NONSGML v1.0//EN
BEGIN:VEVENT
UID:12036
DTSTART;VALUE=DATE:20190216
URL;VALUE=URI:ohschonhell.at/?page_id=26506
SUMMARY:Galactic Township #26
LOCATION:AU
END:VEVENT
END:VCALENDAR


