BEGIN:VCALENDAR
VERSION:2.0
PRODID:-//hacksw/handcal//NONSGML v1.0//EN
BEGIN:VEVENT
UID:12040
DTSTART;VALUE=DATE:20190215
URL;VALUE=URI:ohschonhell.at/?page_id=26514
SUMMARY:Disco Frisco | Elektro Gönner
LOCATION:ELEKTRO GÖNNER
END:VEVENT
END:VCALENDAR


