BEGIN:VCALENDAR
VERSION:2.0
PRODID:-//hacksw/handcal//NONSGML v1.0//EN
BEGIN:VEVENT
UID:12044
DTSTART;VALUE=DATE:20190213
URL;VALUE=URI:ohschonhell.at/?page_id=26522
SUMMARY:Kw36Mi TRWR Residency w/ Armin Schmelz
LOCATION:The Real White Rabbit
END:VEVENT
END:VCALENDAR


