BEGIN:VCALENDAR
VERSION:2.0
PRODID:-//hacksw/handcal//NONSGML v1.0//EN
BEGIN:VEVENT
UID:12049
DTSTART;VALUE=DATE:20190518
URL;VALUE=URI:ohschonhell.at/?page_id=26533
SUMMARY:Exit Techno 8 - Club Derwisch
LOCATION:CAFE DERWISCH
END:VEVENT
END:VCALENDAR


