BEGIN:VCALENDAR
VERSION:2.0
PRODID:-//hacksw/handcal//NONSGML v1.0//EN
BEGIN:VEVENT
UID:12050
DTSTART;VALUE=DATE:20190405
URL;VALUE=URI:ohschonhell.at/?page_id=26535
SUMMARY:Kinky Masquerade goes Heart Club
LOCATION:Heart Club
END:VEVENT
END:VCALENDAR


