BEGIN:VCALENDAR
VERSION:2.0
PRODID:-//hacksw/handcal//NONSGML v1.0//EN
BEGIN:VEVENT
UID:12054
DTSTART;VALUE=DATE:20190322
URL;VALUE=URI:ohschonhell.at/?page_id=26543
SUMMARY:Soundterrasse at Sender Club
LOCATION:Sender
END:VEVENT
END:VCALENDAR


