BEGIN:VCALENDAR
VERSION:2.0
PRODID:-//hacksw/handcal//NONSGML v1.0//EN
BEGIN:VEVENT
UID:12061
DTSTART;VALUE=DATE:20190301
URL;VALUE=URI:ohschonhell.at/?page_id=26557
SUMMARY:LuvAffair w/ Elgason [LuvAffair/BER]
LOCATION:OPERA CLUB
END:VEVENT
END:VCALENDAR


