BEGIN:VCALENDAR
VERSION:2.0
PRODID:-//hacksw/handcal//NONSGML v1.0//EN
BEGIN:VEVENT
UID:12065
DTSTART;VALUE=DATE:20190323
URL;VALUE=URI:ohschonhell.at/?page_id=26565
SUMMARY:Löwenzahn meets Pete Kaltenburg
LOCATION:DUAL
END:VEVENT
END:VCALENDAR


