BEGIN:VCALENDAR
VERSION:2.0
PRODID:-//hacksw/handcal//NONSGML v1.0//EN
BEGIN:VEVENT
UID:12077
DTSTART;VALUE=DATE:20190309
URL;VALUE=URI:ohschonhell.at/?page_id=26589
SUMMARY:NWD #4
LOCATION:OPERA CLUB
END:VEVENT
END:VCALENDAR


