BEGIN:VCALENDAR
VERSION:2.0
PRODID:-//hacksw/handcal//NONSGML v1.0//EN
BEGIN:VEVENT
UID:12084
DTSTART;VALUE=DATE:20190301
URL;VALUE=URI:ohschonhell.at/?page_id=26603
SUMMARY:21 YRS female:pressure x BLISS x Rrriot
LOCATION:TRAKTORFABRIK
END:VEVENT
END:VCALENDAR


