BEGIN:VCALENDAR
VERSION:2.0
PRODID:-//hacksw/handcal//NONSGML v1.0//EN
BEGIN:VEVENT
UID:12089
DTSTART;VALUE=DATE:20190219
URL;VALUE=URI:ohschonhell.at/?page_id=26613
SUMMARY:30 YEAR DRONE - Meru/THRVS\, Kole Galbraith\, Rois\, Ambient Animal
LOCATION:AU
END:VEVENT
END:VCALENDAR


