BEGIN:VCALENDAR
VERSION:2.0
PRODID:-//hacksw/handcal//NONSGML v1.0//EN
BEGIN:VEVENT
UID:12102
DTSTART;VALUE=DATE:20190329
URL;VALUE=URI:ohschonhell.at/?page_id=26641
SUMMARY:FM4 pres. DiGITALISM
LOCATION:HORST
END:VEVENT
END:VCALENDAR


