BEGIN:VCALENDAR
VERSION:2.0
PRODID:-//hacksw/handcal//NONSGML v1.0//EN
BEGIN:VEVENT
UID:12112
DTSTART;VALUE=DATE:20190304
URL;VALUE=URI:ohschonhell.at/?page_id=26661
SUMMARY:Happy Hangover V - Ciao
LOCATION:ELEKTRO GÖNNER
END:VEVENT
END:VCALENDAR


