BEGIN:VCALENDAR
VERSION:2.0
PRODID:-//hacksw/handcal//NONSGML v1.0//EN
BEGIN:VEVENT
UID:12114
DTSTART;VALUE=DATE:20190302
URL;VALUE=URI:ohschonhell.at/?page_id=26665
SUMMARY:No Dignity XXII - Gabagool Edition
LOCATION:ELEKTRO GÖNNER
END:VEVENT
END:VCALENDAR


