BEGIN:VCALENDAR
VERSION:2.0
PRODID:-//hacksw/handcal//NONSGML v1.0//EN
BEGIN:VEVENT
UID:12116
DTSTART;VALUE=DATE:20190227
URL;VALUE=URI:ohschonhell.at/?page_id=26669
SUMMARY:Nachhall pres. Crisis!what!crisis!
LOCATION:ELEKTRO GÖNNER
END:VEVENT
END:VCALENDAR


