BEGIN:VCALENDAR
VERSION:2.0
PRODID:-//hacksw/handcal//NONSGML v1.0//EN
BEGIN:VEVENT
UID:12133
DTSTART;VALUE=DATE:20190412
URL;VALUE=URI:ohschonhell.at/?page_id=26706
SUMMARY:Parallax w/ LEN FAKI (Figure / Ostgut Ton)
LOCATION:HORST
END:VEVENT
END:VCALENDAR


