BEGIN:VCALENDAR
VERSION:2.0
PRODID:-//hacksw/handcal//NONSGML v1.0//EN
BEGIN:VEVENT
UID:12142
DTSTART;VALUE=DATE:20190327
URL;VALUE=URI:ohschonhell.at/?page_id=26724
SUMMARY:Power Play
LOCATION:ELEKTRO GÖNNER
END:VEVENT
END:VCALENDAR


