BEGIN:VCALENDAR
VERSION:2.0
PRODID:-//hacksw/handcal//NONSGML v1.0//EN
BEGIN:VEVENT
UID:12145
DTSTART;VALUE=DATE:20190322
URL;VALUE=URI:ohschonhell.at/?page_id=26730
SUMMARY:Mutter international. feat. Matrixxman (Dekmantel)
LOCATION:SASS
END:VEVENT
END:VCALENDAR


