BEGIN:VCALENDAR
VERSION:2.0
PRODID:-//hacksw/handcal//NONSGML v1.0//EN
BEGIN:VEVENT
UID:12147
DTSTART;VALUE=DATE:20190318
URL;VALUE=URI:ohschonhell.at/?page_id=26734
SUMMARY:Ganz Wien X Elektro Gönner
LOCATION:ELEKTRO GÖNNER
END:VEVENT
END:VCALENDAR


