BEGIN:VCALENDAR
VERSION:2.0
PRODID:-//hacksw/handcal//NONSGML v1.0//EN
BEGIN:VEVENT
UID:12160
DTSTART;VALUE=DATE:20190316
URL;VALUE=URI:ohschonhell.at/?page_id=26760
SUMMARY:Hausmukke
LOCATION:TONSTUBE
END:VEVENT
END:VCALENDAR


