BEGIN:VCALENDAR
VERSION:2.0
PRODID:-//hacksw/handcal//NONSGML v1.0//EN
BEGIN:VEVENT
UID:12161
DTSTART;VALUE=DATE:20190330
URL;VALUE=URI:ohschonhell.at/?page_id=26762
SUMMARY:BLVZE X Branko (Enchufada\, PT)
LOCATION:OPERA CLUB
END:VEVENT
END:VCALENDAR


