BEGIN:VCALENDAR
VERSION:2.0
PRODID:-//hacksw/handcal//NONSGML v1.0//EN
BEGIN:VEVENT
UID:12173
DTSTART;VALUE=DATE:20190405
URL;VALUE=URI:ohschonhell.at/?page_id=26786
SUMMARY:Fiction w/ Ryan Elliott (Ostgut Ton)
LOCATION:FLEX
END:VEVENT
END:VCALENDAR


