BEGIN:VCALENDAR
VERSION:2.0
PRODID:-//hacksw/handcal//NONSGML v1.0//EN
BEGIN:VEVENT
UID:12174
DTSTART;VALUE=DATE:20190404
URL;VALUE=URI:ohschonhell.at/?page_id=26788
SUMMARY:Malen Nach Zahlen w/ ISAbella (Mistress\, Barcelona)
LOCATION:SASS
END:VEVENT
END:VCALENDAR


