BEGIN:VCALENDAR
VERSION:2.0
PRODID:-//hacksw/handcal//NONSGML v1.0//EN
BEGIN:VEVENT
UID:12183
DTSTART;VALUE=DATE:20190414
URL;VALUE=URI:ohschonhell.at/?page_id=26807
SUMMARY:System A Official ❚❚❚ positive after hour Afterparty
LOCATION:Heart Club
END:VEVENT
END:VCALENDAR


