BEGIN:VCALENDAR
VERSION:2.0
PRODID:-//hacksw/handcal//NONSGML v1.0//EN
BEGIN:VEVENT
UID:12212
DTSTART;VALUE=DATE:20190504
URL;VALUE=URI:ohschonhell.at/?page_id=26870
SUMMARY:► AcidRave ◄
LOCATION:VIPER ROOM
END:VEVENT
END:VCALENDAR


