BEGIN:VCALENDAR
VERSION:2.0
PRODID:-//hacksw/handcal//NONSGML v1.0//EN
BEGIN:VEVENT
UID:12214
DTSTART;VALUE=DATE:20190503
URL;VALUE=URI:ohschonhell.at/?page_id=26874
SUMMARY:Ant Antic - Whoop! EP Release | Wien
LOCATION:ROTE BAR
END:VEVENT
END:VCALENDAR


