BEGIN:VCALENDAR
VERSION:2.0
PRODID:-//hacksw/handcal//NONSGML v1.0//EN
BEGIN:VEVENT
UID:12239
DTSTART;VALUE=DATE:20190406
URL;VALUE=URI:ohschonhell.at/?page_id=26924
SUMMARY:Disco Frisco | Luster unten
LOCATION:Luster
END:VEVENT
END:VCALENDAR


