BEGIN:VCALENDAR
VERSION:2.0
PRODID:-//hacksw/handcal//NONSGML v1.0//EN
BEGIN:VEVENT
UID:12276
DTSTART;VALUE=DATE:20190525
URL;VALUE=URI:ohschonhell.at/?page_id=27007
SUMMARY:Löwenzahn meets Rob Velasco - free party
LOCATION:Kramladen
END:VEVENT
END:VCALENDAR


