BEGIN:VCALENDAR
VERSION:2.0
PRODID:-//hacksw/handcal//NONSGML v1.0//EN
BEGIN:VEVENT
UID:12277
DTSTART;VALUE=DATE:20190419
URL;VALUE=URI:ohschonhell.at/?page_id=27009
SUMMARY:Lauter Lärm #7
LOCATION:VENSTER 99
END:VEVENT
END:VCALENDAR


