BEGIN:VCALENDAR
VERSION:2.0
PRODID:-//hacksw/handcal//NONSGML v1.0//EN
BEGIN:VEVENT
UID:12279
DTSTART;VALUE=DATE:20190413
URL;VALUE=URI:ohschonhell.at/?page_id=27013
SUMMARY:DWNTN w/ Speek / braun.aar / Katia / Anton Kolo / Tuna
LOCATION:Austria Underground Gallery
END:VEVENT
END:VCALENDAR


