BEGIN:VCALENDAR
VERSION:2.0
PRODID:-//hacksw/handcal//NONSGML v1.0//EN
BEGIN:VEVENT
UID:12303
DTSTART;VALUE=DATE:20190420
URL;VALUE=URI:ohschonhell.at/?page_id=27065
SUMMARY:Hausgemachter TausendSASSa
LOCATION:SASS
END:VEVENT
END:VCALENDAR


