BEGIN:VCALENDAR
VERSION:2.0
PRODID:-//hacksw/handcal//NONSGML v1.0//EN
BEGIN:VEVENT
UID:1231
DTSTART;VALUE=DATE:20140502
URL;VALUE=URI:ohschonhell.at/?page_id=3705
SUMMARY:SONUS
LOCATION:WIRR
END:VEVENT
END:VCALENDAR


