BEGIN:VCALENDAR
VERSION:2.0
PRODID:-//hacksw/handcal//NONSGML v1.0//EN
BEGIN:VEVENT
UID:12310
DTSTART;VALUE=DATE:20190412
URL;VALUE=URI:ohschonhell.at/?page_id=27079
SUMMARY:Unter die Guertel:linie [[[[T]]]]
LOCATION:Kramladen
END:VEVENT
END:VCALENDAR


