BEGIN:VCALENDAR
VERSION:2.0
PRODID:-//hacksw/handcal//NONSGML v1.0//EN
BEGIN:VEVENT
UID:12319
DTSTART;VALUE=DATE:20190517
URL;VALUE=URI:ohschonhell.at/?page_id=27101
SUMMARY:Manifest x Kala w/ San Soda
LOCATION:SASS
END:VEVENT
END:VCALENDAR


