BEGIN:VCALENDAR
VERSION:2.0
PRODID:-//hacksw/handcal//NONSGML v1.0//EN
BEGIN:VEVENT
UID:12323
DTSTART;VALUE=DATE:20190419
URL;VALUE=URI:ohschonhell.at/?page_id=27111
SUMMARY:Horst &amp\; Hannelore w./ Adam Beyer
LOCATION:HORST
END:VEVENT
END:VCALENDAR


