BEGIN:VCALENDAR
VERSION:2.0
PRODID:-//hacksw/handcal//NONSGML v1.0//EN
BEGIN:VEVENT
UID:12324
DTSTART;VALUE=DATE:20190419
URL;VALUE=URI:ohschonhell.at/?page_id=27113
SUMMARY:DISCO FRISCO | Elektro Gönner
LOCATION:ELEKTRO GÖNNER
END:VEVENT
END:VCALENDAR


